BEGIN:VCALENDAR
VERSION:2.0
PRODID:-//Embark Learning Care Academy - ECPv6.15.20//NONSGML v1.0//EN
CALSCALE:GREGORIAN
METHOD:PUBLISH
X-ORIGINAL-URL:https://embarklearning.co.uk
X-WR-CALDESC:Events for Embark Learning Care Academy
REFRESH-INTERVAL;VALUE=DURATION:PT1H
X-Robots-Tag:noindex
X-PUBLISHED-TTL:PT1H
BEGIN:VTIMEZONE
TZID:Europe/London
BEGIN:DAYLIGHT
TZOFFSETFROM:+0000
TZOFFSETTO:+0100
TZNAME:BST
DTSTART:20250330T010000
END:DAYLIGHT
BEGIN:STANDARD
TZOFFSETFROM:+0100
TZOFFSETTO:+0000
TZNAME:GMT
DTSTART:20251026T010000
END:STANDARD
BEGIN:DAYLIGHT
TZOFFSETFROM:+0000
TZOFFSETTO:+0100
TZNAME:BST
DTSTART:20260329T010000
END:DAYLIGHT
BEGIN:STANDARD
TZOFFSETFROM:+0100
TZOFFSETTO:+0000
TZNAME:GMT
DTSTART:20261025T010000
END:STANDARD
BEGIN:DAYLIGHT
TZOFFSETFROM:+0000
TZOFFSETTO:+0100
TZNAME:BST
DTSTART:20270328T010000
END:DAYLIGHT
BEGIN:STANDARD
TZOFFSETFROM:+0100
TZOFFSETTO:+0000
TZNAME:GMT
DTSTART:20271031T010000
END:STANDARD
END:VTIMEZONE
BEGIN:VEVENT
DTSTART;TZID=Europe/London:20260408T093000
DTEND;TZID=Europe/London:20260408T140000
DTSTAMP:20260422T125225
CREATED:20250828T112913Z
LAST-MODIFIED:20260310T102107Z
UID:10000020-1775640600-1775656800@embarklearning.co.uk
SUMMARY:Moseley - My Care Portfolio - Information Session
DESCRIPTION:Information Session: Wednesday 8th April – Arrival By 9:30am – Finish By 2pm. \nStart Date: 13/04/2026 – Finish Date: 08/05/2026 – Course Times: 9.30am – 2.30pm. \nENROL NOW
URL:https://embarklearning.co.uk/information-session/moseley-my-care-portfolio-information-session/
LOCATION:Moseley Campus\, Embark Learning\, Birmingham Moseley Rugby Club\, Billesley Common\, Yardley Wood Rd\, Birmingham\, Birmingham\, B13 0PT\, United Kingdom
CATEGORIES:Moseley,My Care Portfolio
ATTACH;FMTTYPE=image/jpeg:https://embarklearning.co.uk/wp-content/uploads/2024/01/Moseley-Image-scaled-e1705510245871.jpg
END:VEVENT
BEGIN:VEVENT
DTSTART;TZID=Europe/London:20260324T093000
DTEND;TZID=Europe/London:20260324T140000
DTSTAMP:20260422T125225
CREATED:20250828T105338Z
LAST-MODIFIED:20260311T112258Z
UID:10000017-1774344600-1774360800@embarklearning.co.uk
SUMMARY:Moseley - My Care Portfolio - Information Session
DESCRIPTION:Information Session: Tuesday 24th March – Arrival By 9:30am – Finish By 2pm. \nStart Date: 13/04/2026 – Finish Date: 08/05/2026 – Course Times: 9.30am – 2.30pm. \nENROL NOW
URL:https://embarklearning.co.uk/information-session/birmingham-my-care-portfolio-information-session/
LOCATION:Moseley Campus\, Embark Learning\, Birmingham Moseley Rugby Club\, Billesley Common\, Yardley Wood Rd\, Birmingham\, Birmingham\, B13 0PT\, United Kingdom
CATEGORIES:Moseley,My Care Portfolio
ATTACH;FMTTYPE=image/jpeg:https://embarklearning.co.uk/wp-content/uploads/2024/01/Moseley-Image-scaled-e1705510245871.jpg
END:VEVENT
END:VCALENDAR