BEGIN:VCALENDAR
VERSION:2.0
PRODID:-//Embark Learning Care Academy - ECPv6.15.20//NONSGML v1.0//EN
CALSCALE:GREGORIAN
METHOD:PUBLISH
X-ORIGINAL-URL:https://embarklearning.co.uk
X-WR-CALDESC:Events for Embark Learning Care Academy
REFRESH-INTERVAL;VALUE=DURATION:PT1H
X-Robots-Tag:noindex
X-PUBLISHED-TTL:PT1H
BEGIN:VTIMEZONE
TZID:Europe/London
BEGIN:DAYLIGHT
TZOFFSETFROM:+0000
TZOFFSETTO:+0100
TZNAME:BST
DTSTART:20240331T010000
END:DAYLIGHT
BEGIN:STANDARD
TZOFFSETFROM:+0100
TZOFFSETTO:+0000
TZNAME:GMT
DTSTART:20241027T010000
END:STANDARD
BEGIN:DAYLIGHT
TZOFFSETFROM:+0000
TZOFFSETTO:+0100
TZNAME:BST
DTSTART:20250330T010000
END:DAYLIGHT
BEGIN:STANDARD
TZOFFSETFROM:+0100
TZOFFSETTO:+0000
TZNAME:GMT
DTSTART:20251026T010000
END:STANDARD
BEGIN:DAYLIGHT
TZOFFSETFROM:+0000
TZOFFSETTO:+0100
TZNAME:BST
DTSTART:20260329T010000
END:DAYLIGHT
BEGIN:STANDARD
TZOFFSETFROM:+0100
TZOFFSETTO:+0000
TZNAME:GMT
DTSTART:20261025T010000
END:STANDARD
BEGIN:DAYLIGHT
TZOFFSETFROM:+0000
TZOFFSETTO:+0100
TZNAME:BST
DTSTART:20270328T010000
END:DAYLIGHT
BEGIN:STANDARD
TZOFFSETFROM:+0100
TZOFFSETTO:+0000
TZNAME:GMT
DTSTART:20271031T010000
END:STANDARD
END:VTIMEZONE
BEGIN:VEVENT
DTSTART;TZID=Europe/London:20260217T093000
DTEND;TZID=Europe/London:20260217T140000
DTSTAMP:20260422T210210
CREATED:20251127T101024Z
LAST-MODIFIED:20251127T105512Z
UID:10000027-1771320600-1771336800@embarklearning.co.uk
SUMMARY:West Bromwich (Serco) - My Care Portfolio - Information Session
DESCRIPTION:Information Session: Tuesday 17th February – Arrival By 9:30am – Finish By 2pm. \nStart Date: 23/02/2026 – Finish Date: 20/03/2026 – Course Times: 9.30am – 2.30pm. \nENROL NOW
URL:https://embarklearning.co.uk/information-session/west-bromwich-serco-my-care-portfolio-information-session/
LOCATION:Serco West Bromwich Campus\, Serco\, Guardian House\, Cronehills Linkway\, West Bromwich\, West Midlands\, B70 8SW\, United Kingdom
CATEGORIES:My Care Portfolio,West Bromwich
ATTACH;FMTTYPE=image/png:https://embarklearning.co.uk/wp-content/uploads/2025/11/SERCO-WEST-BROM-e1764237959388.png
END:VEVENT
BEGIN:VEVENT
DTSTART;TZID=Europe/London:20251111T093000
DTEND;TZID=Europe/London:20251111T140000
DTSTAMP:20260422T210210
CREATED:20250828T113133Z
LAST-MODIFIED:20250828T113444Z
UID:10000021-1762853400-1762869600@embarklearning.co.uk
SUMMARY:West Bromwich - My Care Portfolio - Information Session
DESCRIPTION:Information Session: Tuesday 11th November – Arrival By 9:30am – Finish By 2pm. \nStart Date: 17/11/25 – Finish Date: 12/12/25 – Course Times: 9.30am – 2.30pm. \nENROL NOW
URL:https://embarklearning.co.uk/information-session/west-bromwich-my-care-portfolio-information-session/
LOCATION:Lodge Road West Bromwich Campus\, Lodge Community Centre\, Lodge Rd\, West Bromwich\, Birmingham\, B70 8PJ
CATEGORIES:My Care Portfolio,West Bromwich
ATTACH;FMTTYPE=image/png:https://embarklearning.co.uk/wp-content/uploads/2025/04/Lodge-West-Brom-e1748443472529.png
END:VEVENT
END:VCALENDAR