BEGIN:VCALENDAR
VERSION:2.0
PRODID:-//Embark Learning Care Academy - ECPv6.15.20//NONSGML v1.0//EN
CALSCALE:GREGORIAN
METHOD:PUBLISH
X-ORIGINAL-URL:https://embarklearning.co.uk
X-WR-CALDESC:Events for Embark Learning Care Academy
REFRESH-INTERVAL;VALUE=DURATION:PT1H
X-Robots-Tag:noindex
X-PUBLISHED-TTL:PT1H
BEGIN:VTIMEZONE
TZID:Europe/London
BEGIN:DAYLIGHT
TZOFFSETFROM:+0000
TZOFFSETTO:+0100
TZNAME:BST
DTSTART:20250330T010000
END:DAYLIGHT
BEGIN:STANDARD
TZOFFSETFROM:+0100
TZOFFSETTO:+0000
TZNAME:GMT
DTSTART:20251026T010000
END:STANDARD
BEGIN:DAYLIGHT
TZOFFSETFROM:+0000
TZOFFSETTO:+0100
TZNAME:BST
DTSTART:20260329T010000
END:DAYLIGHT
BEGIN:STANDARD
TZOFFSETFROM:+0100
TZOFFSETTO:+0000
TZNAME:GMT
DTSTART:20261025T010000
END:STANDARD
BEGIN:DAYLIGHT
TZOFFSETFROM:+0000
TZOFFSETTO:+0100
TZNAME:BST
DTSTART:20270328T010000
END:DAYLIGHT
BEGIN:STANDARD
TZOFFSETFROM:+0100
TZOFFSETTO:+0000
TZNAME:GMT
DTSTART:20271031T010000
END:STANDARD
END:VTIMEZONE
BEGIN:VEVENT
DTSTART;TZID=Europe/London:20260615T100000
DTEND;TZID=Europe/London:20260615T140000
DTSTAMP:20260422T235246
CREATED:20250828T115751Z
LAST-MODIFIED:20260422T092430Z
UID:10000026-1781517600-1781532000@embarklearning.co.uk
SUMMARY:King's Trust - 5 Day Programme - Information Session
DESCRIPTION:Information Session: Monday 15th June – Arrival By 10am – Finish By 2pm. \nStart Date: 22/06/26 – Finish Date: 26/06/26 – Course Times: 9.30am – 2.30pm. \nENROL NOW
URL:https://embarklearning.co.uk/information-session/kings-trust-5-day-programme-information-session-5/
LOCATION:King’s Trust – Birmingham Centre\, The Cold Store\, Beorma Quarter\, Digbeth\, Birmingham\, Birmingham\, B5 6DR\, United Kingdom
CATEGORIES:5 Day Programme,King's Trust
ATTACH;FMTTYPE=image/jpeg:https://embarklearning.co.uk/wp-content/uploads/2025/03/Kings-Trust.jpg
END:VEVENT
BEGIN:VEVENT
DTSTART;TZID=Europe/London:20260810T093000
DTEND;TZID=Europe/London:20260810T140000
DTSTAMP:20260422T235246
CREATED:20250828T113923Z
LAST-MODIFIED:20260422T092453Z
UID:10000025-1786354200-1786370400@embarklearning.co.uk
SUMMARY:King's Trust - 5 Day Programme - Information Session
DESCRIPTION:Information Session: Monday 10th August – Arrival By 10am – Finish By 2pm. \nStart Date: 17/08/2026 – Finish Date: 21/08/2026 – Course Times: 9.30am – 2.30pm. \nENROL NOW
URL:https://embarklearning.co.uk/information-session/kings-trust-5-day-programme-information-session-4/
LOCATION:King’s Trust – Birmingham Centre\, The Cold Store\, Beorma Quarter\, Digbeth\, Birmingham\, Birmingham\, B5 6DR\, United Kingdom
CATEGORIES:5 Day Programme,King's Trust
ATTACH;FMTTYPE=image/jpeg:https://embarklearning.co.uk/wp-content/uploads/2025/03/Kings-Trust.jpg
END:VEVENT
BEGIN:VEVENT
DTSTART;TZID=Europe/London:20260921T100000
DTEND;TZID=Europe/London:20260921T140000
DTSTAMP:20260422T235246
CREATED:20250528T142119Z
LAST-MODIFIED:20260422T092537Z
UID:10000005-1789984800-1789999200@embarklearning.co.uk
SUMMARY:King's Trust - 5 Day Programme - Information Session
DESCRIPTION:Information Session: Monday 21st September – Arrival By 10am – Finish By 2pm. \nStart Date: 28/09/2026 – Finish Date: 02/10/2026 – Course Times: 9.30am – 2.30pm. \nENROL NOW
URL:https://embarklearning.co.uk/information-session/kings-trust-5-day-programme-information-session-2/
LOCATION:King’s Trust – Birmingham Centre\, The Cold Store\, Beorma Quarter\, Digbeth\, Birmingham\, Birmingham\, B5 6DR\, United Kingdom
CATEGORIES:5 Day Programme,King's Trust
ATTACH;FMTTYPE=image/jpeg:https://embarklearning.co.uk/wp-content/uploads/2025/03/Kings-Trust.jpg
END:VEVENT
END:VCALENDAR